BEGIN:VCALENDAR
VERSION:2.0
PRODID:-//Old Growth Cellars - ECPv6.15.20//NONSGML v1.0//EN
CALSCALE:GREGORIAN
METHOD:PUBLISH
X-WR-CALNAME:Old Growth Cellars
X-ORIGINAL-URL:https://www.oldgrowthcellars.com
X-WR-CALDESC:Events for Old Growth Cellars
REFRESH-INTERVAL;VALUE=DURATION:PT1H
X-Robots-Tag:noindex
X-PUBLISHED-TTL:PT1H
BEGIN:VTIMEZONE
TZID:America/Los_Angeles
BEGIN:DAYLIGHT
TZOFFSETFROM:-0800
TZOFFSETTO:-0700
TZNAME:PDT
DTSTART:20240310T100000
END:DAYLIGHT
BEGIN:STANDARD
TZOFFSETFROM:-0700
TZOFFSETTO:-0800
TZNAME:PST
DTSTART:20241103T090000
END:STANDARD
BEGIN:DAYLIGHT
TZOFFSETFROM:-0800
TZOFFSETTO:-0700
TZNAME:PDT
DTSTART:20250309T100000
END:DAYLIGHT
BEGIN:STANDARD
TZOFFSETFROM:-0700
TZOFFSETTO:-0800
TZNAME:PST
DTSTART:20251102T090000
END:STANDARD
BEGIN:DAYLIGHT
TZOFFSETFROM:-0800
TZOFFSETTO:-0700
TZNAME:PDT
DTSTART:20260308T100000
END:DAYLIGHT
BEGIN:STANDARD
TZOFFSETFROM:-0700
TZOFFSETTO:-0800
TZNAME:PST
DTSTART:20261101T090000
END:STANDARD
END:VTIMEZONE
BEGIN:VEVENT
DTSTART;TZID=America/Los_Angeles:20251119T180000
DTEND;TZID=America/Los_Angeles:20251119T193000
DTSTAMP:20260422T212835
CREATED:20251025T021921Z
LAST-MODIFIED:20251031T230517Z
UID:1539-1763575200-1763580600@www.oldgrowthcellars.com
SUMMARY:Soup & Wine Pairing Night
DESCRIPTION:Join us as we pair 6 OGC wines perfectly with local restaurants such as Humboldt Bay Bistro\, The Grotto\, The Diver Bar & Grill\, Gabriel’s\, Brick & Fire Bistro\, & 511
URL:https://www.oldgrowthcellars.com/event/soup-wine-pairing-night/
LOCATION:Old Growth Cellars\, 1945 Hilfiker Ln.\, Eureka\, CA\, 95501\, United States
CATEGORIES:Wine Pairings
ATTACH;FMTTYPE=image/png:https://www.oldgrowthcellars.com/wp-content/uploads/2025/10/IMG_3326-1.png
ORGANIZER;CN="Old Growth Cellars":MAILTO:info@oldgrowthcellars.com
END:VEVENT
END:VCALENDAR