BEGIN:VCALENDAR
VERSION:2.0
PRODID:-//Old Growth Cellars - ECPv6.15.20//NONSGML v1.0//EN
CALSCALE:GREGORIAN
METHOD:PUBLISH
X-WR-CALNAME:Old Growth Cellars
X-ORIGINAL-URL:https://www.oldgrowthcellars.com
X-WR-CALDESC:Events for Old Growth Cellars
REFRESH-INTERVAL;VALUE=DURATION:PT1H
X-Robots-Tag:noindex
X-PUBLISHED-TTL:PT1H
BEGIN:VTIMEZONE
TZID:America/Los_Angeles
BEGIN:DAYLIGHT
TZOFFSETFROM:-0800
TZOFFSETTO:-0700
TZNAME:PDT
DTSTART:20240310T100000
END:DAYLIGHT
BEGIN:STANDARD
TZOFFSETFROM:-0700
TZOFFSETTO:-0800
TZNAME:PST
DTSTART:20241103T090000
END:STANDARD
BEGIN:DAYLIGHT
TZOFFSETFROM:-0800
TZOFFSETTO:-0700
TZNAME:PDT
DTSTART:20250309T100000
END:DAYLIGHT
BEGIN:STANDARD
TZOFFSETFROM:-0700
TZOFFSETTO:-0800
TZNAME:PST
DTSTART:20251102T090000
END:STANDARD
BEGIN:DAYLIGHT
TZOFFSETFROM:-0800
TZOFFSETTO:-0700
TZNAME:PDT
DTSTART:20260308T100000
END:DAYLIGHT
BEGIN:STANDARD
TZOFFSETFROM:-0700
TZOFFSETTO:-0800
TZNAME:PST
DTSTART:20261101T090000
END:STANDARD
END:VTIMEZONE
BEGIN:VEVENT
DTSTART;TZID=America/Los_Angeles:20251210T180000
DTEND;TZID=America/Los_Angeles:20251210T200000
DTSTAMP:20260422T185659
CREATED:20251101T001624Z
LAST-MODIFIED:20251101T002725Z
UID:1565-1765389600-1765396800@www.oldgrowthcellars.com
SUMMARY:Wine & Design Series: Holiday Signs
DESCRIPTION:Join us for our December’s Wine & Design-Holiday Signs. Choose one of six designs and paint your own sign. $40 gets you all your supplies and your first drink! Please be sure to pick your design when purchasing your ticket!
URL:https://www.oldgrowthcellars.com/event/wine-design-series-holiday-signs/
CATEGORIES:Wine & Design
ATTACH;FMTTYPE=image/png:https://www.oldgrowthcellars.com/wp-content/uploads/2025/10/IMG_3323-1.png
END:VEVENT
BEGIN:VEVENT
DTSTART;TZID=America/Los_Angeles:20251009T180000
DTEND;TZID=America/Los_Angeles:20251009T200000
DTSTAMP:20260422T185659
CREATED:20250923T050351Z
LAST-MODIFIED:20251002T230905Z
UID:1388-1760032800-1760040000@www.oldgrowthcellars.com
SUMMARY:Wine & Design Series: Witch's Broom
DESCRIPTION:Get a premade scented broom and use feathers\, flowers\, talismans\, & more to make your own witches broom and get your first drink
URL:https://www.oldgrowthcellars.com/event/wine-design-series-witchs-broom/
LOCATION:Old Growth Cellars\, 1945 Hilfiker Ln.\, Eureka\, CA\, 95501\, United States
CATEGORIES:Wine & Design
ATTACH;FMTTYPE=image/png:https://www.oldgrowthcellars.com/wp-content/uploads/2025/09/OG-IMG_28672.png
ORGANIZER;CN="Old Growth Cellars":MAILTO:info@oldgrowthcellars.com
END:VEVENT
END:VCALENDAR